BEGIN:VCALENDAR
VERSION:2.0
PRODID:-//Building Families for Children - ECPv6.15.20//NONSGML v1.0//EN
CALSCALE:GREGORIAN
METHOD:PUBLISH
X-ORIGINAL-URL:https://buildingfamiliesforchildren.org
X-WR-CALDESC:Events for Building Families for Children
REFRESH-INTERVAL;VALUE=DURATION:PT1H
X-Robots-Tag:noindex
X-PUBLISHED-TTL:PT1H
BEGIN:VTIMEZONE
TZID:America/Halifax
BEGIN:DAYLIGHT
TZOFFSETFROM:-0400
TZOFFSETTO:-0300
TZNAME:ADT
DTSTART:20220313T060000
END:DAYLIGHT
BEGIN:STANDARD
TZOFFSETFROM:-0300
TZOFFSETTO:-0400
TZNAME:AST
DTSTART:20221106T050000
END:STANDARD
BEGIN:DAYLIGHT
TZOFFSETFROM:-0400
TZOFFSETTO:-0300
TZNAME:ADT
DTSTART:20230312T060000
END:DAYLIGHT
BEGIN:STANDARD
TZOFFSETFROM:-0300
TZOFFSETTO:-0400
TZNAME:AST
DTSTART:20231105T050000
END:STANDARD
BEGIN:DAYLIGHT
TZOFFSETFROM:-0400
TZOFFSETTO:-0300
TZNAME:ADT
DTSTART:20240310T060000
END:DAYLIGHT
BEGIN:STANDARD
TZOFFSETFROM:-0300
TZOFFSETTO:-0400
TZNAME:AST
DTSTART:20241103T050000
END:STANDARD
BEGIN:DAYLIGHT
TZOFFSETFROM:-0400
TZOFFSETTO:-0300
TZNAME:ADT
DTSTART:20250309T060000
END:DAYLIGHT
BEGIN:STANDARD
TZOFFSETFROM:-0300
TZOFFSETTO:-0400
TZNAME:AST
DTSTART:20251102T050000
END:STANDARD
BEGIN:DAYLIGHT
TZOFFSETFROM:-0400
TZOFFSETTO:-0300
TZNAME:ADT
DTSTART:20260308T060000
END:DAYLIGHT
BEGIN:STANDARD
TZOFFSETFROM:-0300
TZOFFSETTO:-0400
TZNAME:AST
DTSTART:20261101T050000
END:STANDARD
END:VTIMEZONE
BEGIN:VEVENT
DTSTART;TZID=America/Halifax:20250617T180000
DTEND;TZID=America/Halifax:20250617T203000
DTSTAMP:20260422T154242
CREATED:20240715T181058Z
LAST-MODIFIED:20240715T185323Z
UID:52572-1750183200-1750192200@buildingfamiliesforchildren.org
SUMMARY:CHOSEN In-Service: Town Hall Meeting
DESCRIPTION:Please join us at the BFC office for a Town Hall Meeting for CHOSEN Foster Parents and Staff. Topics TBD. Child care will be available. Fellowship and food is from 6-6:30 and the meeting will be held from 6:30-8:30.
URL:https://buildingfamiliesforchildren.org/event/chosen-in-service-town-hall-meeting/
LOCATION:BFC Office\, 7142 Columbia Gateway Drive\, Suite 170\, Columbia\, MD\, 21046\, United States
CATEGORIES:Current Foster Parent Training
END:VEVENT
BEGIN:VEVENT
DTSTART;TZID=America/Halifax:20250422T180000
DTEND;TZID=America/Halifax:20250422T200000
DTSTAMP:20260422T154242
CREATED:20240715T180858Z
LAST-MODIFIED:20240715T180858Z
UID:52570-1745344800-1745352000@buildingfamiliesforchildren.org
SUMMARY:CHOSEN In-Service Training: CPS Mandatory Reporting
DESCRIPTION:Please join us for a presentation by Tia Blue-Owens\, LCSW-C about the CPS Mandatory Reporting process.
URL:https://buildingfamiliesforchildren.org/event/chosen-in-service-training-cps-mandatory-reporting/
LOCATION:Zoom Meeting
CATEGORIES:Current Foster Parent Training
END:VEVENT
BEGIN:VEVENT
DTSTART;TZID=America/Halifax:20250218T180000
DTEND;TZID=America/Halifax:20250218T200000
DTSTAMP:20260422T154242
CREATED:20240715T180621Z
LAST-MODIFIED:20240715T180704Z
UID:52568-1739901600-1739908800@buildingfamiliesforchildren.org
SUMMARY:CHOSEN In-Service Training: TBRI - Correcting Principles
DESCRIPTION:Join us for a presentation by Kate Travers\, LCSW-C\, on TBRI Correcting Principles.
URL:https://buildingfamiliesforchildren.org/event/chosen-in-service-training-tbri-correcting-principles/
LOCATION:Zoom Meeting
CATEGORIES:Current Foster Parent Training
END:VEVENT
BEGIN:VEVENT
DTSTART;TZID=America/Halifax:20250121T180000
DTEND;TZID=America/Halifax:20250121T200000
DTSTAMP:20260422T154242
CREATED:20240715T180407Z
LAST-MODIFIED:20241017T145052Z
UID:52566-1737482400-1737489600@buildingfamiliesforchildren.org
SUMMARY:CHOSEN In Services Training - ACES
DESCRIPTION:Please join us for a presentation on Adverse Childhood Experiences (ACES) by Springboard Community Services.
URL:https://buildingfamiliesforchildren.org/event/chosen-in-services-training-aces/
LOCATION:Zoom Meeting
CATEGORIES:Current Foster Parent Training
END:VEVENT
BEGIN:VEVENT
DTSTART;TZID=America/Halifax:20241112T180000
DTEND;TZID=America/Halifax:20241112T200000
DTSTAMP:20260422T154242
CREATED:20241017T165638Z
LAST-MODIFIED:20241017T165638Z
UID:52723-1731434400-1731441600@buildingfamiliesforchildren.org
SUMMARY:CHOSEN In-Service: Get Your Financial House in Order at Any Age
DESCRIPTION:Please join us for an In-Service Training given by Durshawn Robinson of Making Change. The presentation will cover Budgeting\, Debt\, Credit\, and Savings. \nThe training will be in person on Tuesday\, November 12th from 6-8 pm. Dinner will be provided.
URL:https://buildingfamiliesforchildren.org/event/chosen-in-service-get-your-financial-house-in-order-at-any-age/
LOCATION:BFC Office\, 7142 Columbia Gateway Drive\, Suite 170\, Columbia\, MD\, 21046\, United States
CATEGORIES:Current Foster Parent Training
END:VEVENT
BEGIN:VEVENT
DTSTART;TZID=America/Halifax:20241015T180000
DTEND;TZID=America/Halifax:20241015T203000
DTSTAMP:20260422T154242
CREATED:20240715T171328Z
LAST-MODIFIED:20240715T172726Z
UID:52564-1729015200-1729024200@buildingfamiliesforchildren.org
SUMMARY:CHOSEN In-Service: Budgeting 101 - Needs vs. Wants
DESCRIPTION:Please join us for a presentation by Durshawn Robinson about budgeting. The training will be held at the BFC office from 6-8:30. In-person meetings include child care. A meal and fellowship will be offered from 6-6:30 with the training to follow.
URL:https://buildingfamiliesforchildren.org/event/chosen-in-service-budgeting-101-needs-vs-wants/
LOCATION:BFC Office\, 7142 Columbia Gateway Drive\, Suite 170\, Columbia\, MD\, 21046\, United States
CATEGORIES:Current Foster Parent Training
END:VEVENT
BEGIN:VEVENT
DTSTART;TZID=America/Halifax:20240827T180000
DTEND;TZID=America/Halifax:20240827T200000
DTSTAMP:20260422T154242
CREATED:20240715T171018Z
LAST-MODIFIED:20240715T191130Z
UID:52562-1724781600-1724788800@buildingfamiliesforchildren.org
SUMMARY:CHOSEN In-Service Training - The IEP Mumble Jumble\, Part 2
DESCRIPTION:Join us for a training by Karen Streeter on navigating the IEP process. Training is on Zoom from 6 – 8 pm.
URL:https://buildingfamiliesforchildren.org/event/chosen-in-service-training-the-iep-mumble-part-2/
LOCATION:Zoom Meeting
CATEGORIES:Current Foster Parent Training
END:VEVENT
BEGIN:VEVENT
DTSTART;TZID=America/Halifax:20240618T180000
DTEND;TZID=America/Halifax:20240618T200000
DTSTAMP:20260422T154242
CREATED:20230810T190306Z
LAST-MODIFIED:20240110T154838Z
UID:51675-1718733600-1718740800@buildingfamiliesforchildren.org
SUMMARY:CHOSEN In Service Training: Town Hall Meeting
DESCRIPTION:Join us for a CHOSEN Town Hall Meeting – Topics TBD \nTraining will be held at the BFC office from 6 – 8 pm.
URL:https://buildingfamiliesforchildren.org/event/chosen-in-service-training-town-hall-meeting/
LOCATION:BFC Office\, 7142 Columbia Gateway Drive\, Suite 170\, Columbia\, MD\, 21046\, United States
CATEGORIES:Current Foster Parent Training
END:VEVENT
BEGIN:VEVENT
DTSTART;TZID=America/Halifax:20240606T180000
DTEND;TZID=America/Halifax:20240608T150000
DTSTAMP:20260422T154242
CREATED:20240415T190542Z
LAST-MODIFIED:20240425T134546Z
UID:52409-1717696800-1717858800@buildingfamiliesforchildren.org
SUMMARY:Hope for the Journey Conference & Training
DESCRIPTION:Join us for a transformative experience at the Hope for the Journey Conference\, a two-day event dedicated to empowering and supporting parents\, caregivers\, church communities\, and professionals working with children who have faced trauma\, including children in adoptive and foster families. Teaching Topics include: An Introduction to TBRI® (Trust-Based Relational Intervention®)\, How to Address Big Behaviors\, and More!\n\nPart one: Thursday\, June 6th from 6 pm – 9:30 pmPart two: Saturday\, June 8th from 9 am – 3 pm*a limited quantity of digital-only passes are available.\n\nGrace Community Church8200 Old Columbia RdFulton\, MD 20759\n\nIMPORTANT NOTE: This event is offered free of cost\, but you must register below to attend.\n\nRegister here: https://gcconline.churchcenter.com/people/forms/711422\n\nWe are hosting this conference in partnership with Grace Community Church and Foster the Family Baltimore.
URL:https://buildingfamiliesforchildren.org/event/hope-for-the-journey-conference-training/
LOCATION:Grace Community Church\, 8200 Old Columbia Rd\, Fulton\, 20759\, United States
CATEGORIES:Current Foster Parent Training,General Event,Prospective Foster Parent,Prospective Volunteer,SFFC Volunteer
END:VEVENT
BEGIN:VEVENT
DTSTART;TZID=America/Halifax:20240521T173000
DTEND;TZID=America/Halifax:20240521T203000
DTSTAMP:20260422T154242
CREATED:20240424T151301Z
LAST-MODIFIED:20240508T142310Z
UID:52423-1716312600-1716323400@buildingfamiliesforchildren.org
SUMMARY:Foster Parent Appreciation Night
DESCRIPTION:In recognition of the dedication and the impact foster parents make in the lives of youth in foster care\, we are excited to celebrate you this month! Join us to relax\, reflect\, and reconnect in our new office space. We will have dinner\, dessert\, activities\, and gifts. This is a wonderful opportunity to enjoy a well-deserved break and deepen connections within our CHOSEN community. \nDate: Tuesday\, May 21\, 2024 from 6:00 pm – 8:30 pm \nLocation: 7142 Columbia Gateway Dr\, Suite 170\, Columbia\, MD 21046 \nSpecial Guests: Stormy Stringer\, events coordinator and founder of For A.L.L. LLC & Lisa Burch-Harney\, registered massage practitioner and owner of LBH Therapeutic Massage. \nStormy will be facilitating our team building activities & Lisa\, will be offering FREE 10 minute massages from 5:30pm-6:30pm. Please come early if you can to experience this special gift. \nPlease confirm your attendance as soon as possible by emailing tracy@buildingfamiliesforchildren.org
URL:https://buildingfamiliesforchildren.org/event/foster-parent-appreciation-night/
LOCATION:BFC Office\, 7142 Columbia Gateway Drive\, Suite 170\, Columbia\, MD\, 21046\, United States
CATEGORIES:Current Foster Parent Training
END:VEVENT
BEGIN:VEVENT
DTSTART;TZID=America/Halifax:20240423T180000
DTEND;TZID=America/Halifax:20240423T200000
DTSTAMP:20260422T154242
CREATED:20240415T185938Z
LAST-MODIFIED:20240415T185938Z
UID:52407-1713895200-1713902400@buildingfamiliesforchildren.org
SUMMARY:CHOSEN In-Service: The IEP Mumble Jumble
DESCRIPTION:CHOSEN Foster Parents: Join us to learn more about IEPs including understanding acronyms\, timelines\, how to advocate\, student rights\, resources\, and more. This is part one of a two-part training.
URL:https://buildingfamiliesforchildren.org/event/chosen-in-service-the-iep-mumble-jumble/
LOCATION:Zoom Meeting
CATEGORIES:Current Foster Parent Training
END:VEVENT
BEGIN:VEVENT
DTSTART;TZID=America/Halifax:20231024T180000
DTEND;TZID=America/Halifax:20231024T200000
DTSTAMP:20260422T154242
CREATED:20230810T185858Z
LAST-MODIFIED:20230810T190118Z
UID:51673-1698170400-1698177600@buildingfamiliesforchildren.org
SUMMARY:CHOSEN In Service Training: CPS and Mandatory Reporting
DESCRIPTION:CPS and Mandatory Reporting presented by Tia Blue-Owens\, LCSW-C \n\n\nThis training will provide an overview of the mandatory reporting process for CPS\, including the signs of abuse and reporting requirements. Attendees will leave with a better understanding of how to protect and advocate for the safety and well-being of children in their care. \n\n\nTraining will be held over Zoom from 6 – 8 pm.
URL:https://buildingfamiliesforchildren.org/event/chosen-in-service-training-cps-and-mandatory-reporting/
LOCATION:Zoom Meeting
CATEGORIES:Current Foster Parent Training
END:VEVENT
BEGIN:VEVENT
DTSTART;TZID=America/Halifax:20230829T180000
DTEND;TZID=America/Halifax:20230829T200000
DTSTAMP:20260422T154242
CREATED:20230809T120953Z
LAST-MODIFIED:20230809T120953Z
UID:51670-1693332000-1693339200@buildingfamiliesforchildren.org
SUMMARY:CHOSEN In Service Training: Helping Children with Attachment Issues
DESCRIPTION:Staying Connected Even When You Discipline presented by Kate Travers\, LCSW-C \nJoin us to learn about approaching discipline as an opportunity for relationship-building and repair with children with a history of trauma. \nTraining will be held over Zoom from 6 – 8 pm.
URL:https://buildingfamiliesforchildren.org/event/chosen-in-service-training-helping-children-with-attachment-issues/
LOCATION:Zoom Meeting
CATEGORIES:Current Foster Parent Training
END:VEVENT
BEGIN:VEVENT
DTSTART;TZID=America/Halifax:20230620T180000
DTEND;TZID=America/Halifax:20230620T203000
DTSTAMP:20260422T154242
CREATED:20220926T174248Z
LAST-MODIFIED:20230214T184338Z
UID:50979-1687284000-1687293000@buildingfamiliesforchildren.org
SUMMARY:CHOSEN In Service Training: Town Hall Meeting
DESCRIPTION:Join us for a town-hall style meeting at the BFC office. \nFood & Fellowship from 6-6:30; meeting held from 6:30-8:30. \nRSVP to dawn@Buildingfamiliesforchildren.org
URL:https://buildingfamiliesforchildren.org/event/chosen-in-service-training-5/
LOCATION:BFC Office\, 7142 Columbia Gateway Drive\, Suite 170\, Columbia\, MD\, 21046\, United States
CATEGORIES:Current Foster Parent Training
END:VEVENT
BEGIN:VEVENT
DTSTART;TZID=America/Halifax:20230418T180000
DTEND;TZID=America/Halifax:20230418T200000
DTSTAMP:20260422T154242
CREATED:20220926T174157Z
LAST-MODIFIED:20230329T150815Z
UID:50977-1681840800-1681848000@buildingfamiliesforchildren.org
SUMMARY:CHOSEN In Service Training: Helping Children with Attachment Issues
DESCRIPTION:Save the date: Understanding and Helping Children with Attachment Issues presented by Kate Travers\, LCSW-C \nTraining will be held over Zoom from 6 – 8 pm.
URL:https://buildingfamiliesforchildren.org/event/chosen-in-service-training-4/
LOCATION:Zoom Meeting
CATEGORIES:Current Foster Parent Training
END:VEVENT
BEGIN:VEVENT
DTSTART;TZID=America/Halifax:20230314T180000
DTEND;TZID=America/Halifax:20230314T203000
DTSTAMP:20260422T154242
CREATED:20220926T174104Z
LAST-MODIFIED:20230214T184308Z
UID:50975-1678816800-1678825800@buildingfamiliesforchildren.org
SUMMARY:CHOSEN In-Service Training: Sensory vs. Behavior
DESCRIPTION:Join us to learn strategies to guide youth in care toward better self-regulation and thus better behavior. \nFood & fellowship from 6-6:30; training from 6:30-8:30. \nPlease email dawn@buildingfamiliesforchildren.org to RSVP.
URL:https://buildingfamiliesforchildren.org/event/chosen-in-service-training-3/
LOCATION:BFC Office\, 7142 Columbia Gateway Drive\, Suite 170\, Columbia\, MD\, 21046\, United States
CATEGORIES:Current Foster Parent Training
END:VEVENT
END:VCALENDAR